BEGIN:VCALENDAR
VERSION:2.0
PRODID:-//hacksw/handcal//NONSGML v1.0//EN
BEGIN:VEVENT
CATEGORIES:Профнавигация, Университетская жизнь
DTSTART:20170422T120000
DTEND:20170422T150000
SUMMARY:Всероссийская лабораторная
DESCRIPTION:НИТУ МИСИС станет главной площадкой образовательно-просветительской акции по проверке научной грамотности россиян — «Всероссийская лабораторная».
LOCATION:Б-4
END:VEVENT
END:VCALENDAR